BEGIN:VCALENDAR
VERSION:2.0
PRODID:-//Convent Place - ECPv6.6.4.2//NONSGML v1.0//EN
CALSCALE:GREGORIAN
METHOD:PUBLISH
X-ORIGINAL-URL:https://conventplace.com
X-WR-CALDESC:Events for Convent Place
REFRESH-INTERVAL;VALUE=DURATION:PT1H
X-Robots-Tag:noindex
X-PUBLISHED-TTL:PT1H
BEGIN:VTIMEZONE
TZID:UTC
BEGIN:STANDARD
TZOFFSETFROM:+0000
TZOFFSETTO:+0000
TZNAME:UTC
DTSTART:20250101T000000
END:STANDARD
END:VTIMEZONE
BEGIN:VEVENT
DTSTART;TZID=UTC:20251022T110000
DTEND;TZID=UTC:20251022T120000
DTSTAMP:20260423T104042
CREATED:20250919T144157Z
LAST-MODIFIED:20250919T144157Z
UID:76070-1761130800-1761134400@conventplace.com
SUMMARY:Lunchtime Talks
DESCRIPTION:We’re excited to start a new season of Lunchtime Talks beginning Wednesday\, September 17! Each week\, we’ll gather for lunch and a Bible study that explores some of life’s biggest questions. Whether you’ve been following Jesus for years or are simply curious\, these talks are designed to spark reflection\, conversation\, and deeper faith. RSVP ahead of time so we can have plenty of food ready for everyone to enjoy. \nThis season introduces something new\, a Q&A Roundtable on October 29. Throughout the series\, attendees can submit questions through this form\, and our pastors will address them on our final week. \nFall 2025 Schedule:\n\nSeptember 17 — Aren’t All Religions the Same? with Sam Allberry\nSeptember 24 — Can the Bible be Trusted? with Jim Thomas\nOctober 1 — Why Does God Allow Pain\, Evil\, and Suffering? with Matt Pierson\nOctober 8 — Can Certainty and Doubt Co-Exist? with Tom Yarbrough\nOctober 15 — Can Free Will and God’s Sovereignty Co-Exist? with Matt Pierson\nOctober 22 — How Can I Understand God’s Will For My Life? with Tommy Bailey\nOctober 29 — Q&A Roundtable with TVC pastors\n\nRead more about Lunchtime Talks here. \nRSVP \nContact: Matt Pierson
URL:https://conventplace.com/event/lunchtime-talks-8/
LOCATION:2021 21st Ave South\, 2021 21st Ave South Suite Nashville\, TN\, Nashville\, TN\, 37212\, United States
ATTACH;FMTTYPE=image/jpeg:https://conventplace.com/wp-content/uploads/2025/09/image-2.jpeg
END:VEVENT
BEGIN:VEVENT
DTSTART;TZID=UTC:20251029T110000
DTEND;TZID=UTC:20251029T120000
DTSTAMP:20260423T104042
CREATED:20250919T144221Z
LAST-MODIFIED:20250919T144221Z
UID:76069-1761735600-1761739200@conventplace.com
SUMMARY:Lunchtime Talks
DESCRIPTION:We’re excited to start a new season of Lunchtime Talks beginning Wednesday\, September 17! Each week\, we’ll gather for lunch and a Bible study that explores some of life’s biggest questions. Whether you’ve been following Jesus for years or are simply curious\, these talks are designed to spark reflection\, conversation\, and deeper faith. RSVP ahead of time so we can have plenty of food ready for everyone to enjoy. \nThis season introduces something new\, a Q&A Roundtable on October 29. Throughout the series\, attendees can submit questions through this form\, and our pastors will address them on our final week. \nFall 2025 Schedule:\n\nSeptember 17 — Aren’t All Religions the Same? with Sam Allberry\nSeptember 24 — Can the Bible be Trusted? with Jim Thomas\nOctober 1 — Why Does God Allow Pain\, Evil\, and Suffering? with Matt Pierson\nOctober 8 — Can Certainty and Doubt Co-Exist? with Tom Yarbrough\nOctober 15 — Can Free Will and God’s Sovereignty Co-Exist? with Matt Pierson\nOctober 22 — How Can I Understand God’s Will For My Life? with Tommy Bailey\nOctober 29 — Q&A Roundtable with TVC pastors\n\nRead more about Lunchtime Talks here. \nRSVP \nContact: Matt Pierson
URL:https://conventplace.com/event/lunchtime-talks-9/
LOCATION:2021 21st Ave South\, 2021 21st Ave South Suite Nashville\, TN\, Nashville\, TN\, 37212\, United States
ATTACH;FMTTYPE=image/jpeg:https://conventplace.com/wp-content/uploads/2025/09/image-2.jpeg
END:VEVENT
END:VCALENDAR